BEGIN:VCALENDAR
VERSION:2.0
PRODID:-//Alpine Club - ECPv5.6.0//NONSGML v1.0//EN
CALSCALE:GREGORIAN
METHOD:PUBLISH
X-WR-CALNAME:Alpine Club
X-ORIGINAL-URL:https://alpinehfc.com
X-WR-CALDESC:Events for Alpine Club
BEGIN:VTIMEZONE
TZID:America/New_York
BEGIN:DAYLIGHT
TZOFFSETFROM:-0500
TZOFFSETTO:-0400
TZNAME:EDT
DTSTART:20230312T070000
END:DAYLIGHT
BEGIN:STANDARD
TZOFFSETFROM:-0400
TZOFFSETTO:-0500
TZNAME:EST
DTSTART:20231105T060000
END:STANDARD
BEGIN:DAYLIGHT
TZOFFSETFROM:-0500
TZOFFSETTO:-0400
TZNAME:EDT
DTSTART:20240310T070000
END:DAYLIGHT
BEGIN:STANDARD
TZOFFSETFROM:-0400
TZOFFSETTO:-0500
TZNAME:EST
DTSTART:20241103T060000
END:STANDARD
END:VTIMEZONE
BEGIN:VEVENT
DTSTART;TZID=America/New_York:20231231T190000
DTEND;TZID=America/New_York:20240101T003000
DTSTAMP:20260423T050318
CREATED:20231107T014006Z
LAST-MODIFIED:20231107T014826Z
UID:5350-1704049200-1704069000@alpinehfc.com
SUMMARY:New Years Eve Party
DESCRIPTION:Appetizers at 7:00 pm \n\nSwedish Meatballs\nMeat & Cheese Tray\n\nDinner at 7:45 pm \n\nFilet w/ Mushrooms\nChicken Milanese\n Pasta w/ Marinara Sauce\n Green Beans \nSalad\nSalad\, Rolls & Butter \nDessert \n\nMidnight Snack - Kielbasa & Sauerkraut \n$100 Per Person \nFor tickets call Jack at 412-221-8550
URL:https://alpinehfc.com/event/new-years-eve-party-3/
CATEGORIES:Club Events
END:VEVENT
END:VCALENDAR