BEGIN:VCALENDAR
VERSION:2.0
PRODID:-//Alpine Club - ECPv5.6.0//NONSGML v1.0//EN
CALSCALE:GREGORIAN
METHOD:PUBLISH
X-WR-CALNAME:Alpine Club
X-ORIGINAL-URL:https://alpinehfc.com
X-WR-CALDESC:Events for Alpine Club
BEGIN:VTIMEZONE
TZID:America/New_York
BEGIN:DAYLIGHT
TZOFFSETFROM:-0500
TZOFFSETTO:-0400
TZNAME:EDT
DTSTART:20250309T070000
END:DAYLIGHT
BEGIN:STANDARD
TZOFFSETFROM:-0400
TZOFFSETTO:-0500
TZNAME:EST
DTSTART:20251102T060000
END:STANDARD
END:VTIMEZONE
BEGIN:VEVENT
DTSTART;TZID=America/New_York:20251214T160000
DTEND;TZID=America/New_York:20251214T200000
DTSTAMP:20260421T105314
CREATED:20251120T140525Z
LAST-MODIFIED:20251120T200349Z
UID:6223-1765728000-1765742400@alpinehfc.com
SUMMARY:County Christmas Concert with Carolyn Dawn Johnson
DESCRIPTION:
URL:https://alpinehfc.com/event/county-christmas-concert-with-carolyn-dawn-johnson/
CATEGORIES:Club Events
END:VEVENT
END:VCALENDAR